BEGIN:VCALENDAR
VERSION:2.0
PRODID:-//The Saddletones - ECPv6.15.19//NONSGML v1.0//EN
CALSCALE:GREGORIAN
METHOD:PUBLISH
X-WR-CALNAME:The Saddletones
X-ORIGINAL-URL:https://www.thesaddletones.com
X-WR-CALDESC:Events for The Saddletones
REFRESH-INTERVAL;VALUE=DURATION:PT1H
X-Robots-Tag:noindex
X-PUBLISHED-TTL:PT1H
BEGIN:VTIMEZONE
TZID:UTC
BEGIN:STANDARD
TZOFFSETFROM:+0000
TZOFFSETTO:+0000
TZNAME:UTC
DTSTART:20230101T000000
END:STANDARD
END:VTIMEZONE
BEGIN:VEVENT
DTSTART;TZID=UTC:20260228T132000
DTEND;TZID=UTC:20260228T144000
DTSTAMP:20260422T220251
CREATED:20251125T190642Z
LAST-MODIFIED:20260203T142251Z
UID:2293-1772284800-1772289600@www.thesaddletones.com
SUMMARY:Lancaster Roots and Blues
DESCRIPTION:The SaddleTones are set to return to The Lancaster Roots and Blues Music Festival. The band will perform on Saturday afternoon from 1:20 to 2:40 at Zoetropolis. Hope to see ya there!
URL:https://www.thesaddletones.com/event/lancaster-roots-and-blues/
LOCATION:Lancaster Roots & Blues Music Festival\, 112 N. Water St.\, Lancaster\, PA\, 17603
END:VEVENT
BEGIN:VEVENT
DTSTART;TZID=UTC:20260226T200000
DTEND;TZID=UTC:20260226T220000
DTSTAMP:20260422T220251
CREATED:20251119T132511Z
LAST-MODIFIED:20251119T132511Z
UID:2289-1772136000-1772143200@www.thesaddletones.com
SUMMARY:Sellersville Theater
DESCRIPTION:The SaddleTones open for the amazing Big Sandy & His Fly-Rite Boys at The Sellersville Theater.  Big Sandy has been bringing their brand of Rockabilly and Roots Americana to audiences worldwide since 1988.
URL:https://www.thesaddletones.com/event/sellersville-theater/
LOCATION:Sellersville Theater\, 24 W Temple Ave\, Sellersville\, PA\, 18960
END:VEVENT
BEGIN:VEVENT
DTSTART;TZID=UTC:20251125T080000
DTEND;TZID=UTC:20251125T170000
DTSTAMP:20260422T220251
CREATED:20251125T190221Z
LAST-MODIFIED:20251125T190221Z
UID:2291-1764057600-1764090000@www.thesaddletones.com
SUMMARY:Lancaster Roots and Blues Festival
DESCRIPTION:The SaddleTones are set to return to Lancaster Roots and Blues Festival. Stay tuned for location\, date and time of our set.
URL:https://www.thesaddletones.com/event/lancaster-roots-and-blues-festival/
LOCATION:PA
END:VEVENT
BEGIN:VEVENT
DTSTART;TZID=UTC:20251025T150000
DTEND;TZID=UTC:20251025T180000
DTSTAMP:20260422T220251
CREATED:20250225T183139Z
LAST-MODIFIED:20250225T183139Z
UID:2227-1761404400-1761415200@www.thesaddletones.com
SUMMARY:Cherry Crest Adventure Farm
DESCRIPTION:Come spend the afternoon at Cherry Crest Adventure Farm where family fun and farming come together.
URL:https://www.thesaddletones.com/event/cherry-crest-adventure-farm/
LOCATION:Cherry Crest Adventure Farm\, 150 Cherry Hill Road\, Ronks\, PA\, 17572\, United States
END:VEVENT
BEGIN:VEVENT
DTSTART;TZID=UTC:20250831T160000
DTEND;TZID=UTC:20250831T170000
DTSTAMP:20260422T220251
CREATED:20241021T195309Z
LAST-MODIFIED:20241021T195309Z
UID:2171-1756656000-1756659600@www.thesaddletones.com
SUMMARY:Frenchtown RiverFest
DESCRIPTION:The SaddleTones return to The Frenchtown RiverFest. Established in 2004\, RiverFest is a street fair celebration of life along the river in beautiful Frenchtown NJ.
URL:https://www.thesaddletones.com/event/frenchtown-riverfest/
LOCATION:Frenchtown RiverFest\, Downtown\, Frenchtown\, NJ\, 08825
END:VEVENT
BEGIN:VEVENT
DTSTART;TZID=UTC:20250817T180000
DTEND;TZID=UTC:20250817T200000
DTSTAMP:20260422T220251
CREATED:20250319T124551Z
LAST-MODIFIED:20250319T124551Z
UID:2238-1755453600-1755460800@www.thesaddletones.com
SUMMARY:Music in Memorial Park - Newmanstown PA
DESCRIPTION:The SaddleTones perform at Memorial Park in beautiful Newmantstown PA as part of their summer concert series. \nIn case of rain the concert is moved in doors at the Living Stones Church located at 229 E. Main St.
URL:https://www.thesaddletones.com/event/music-in-memorial-park-newmanstown-pa/
LOCATION:Newmanstown Memorial Park\, Memorial Blvd. & Ash Rd.\, Newmanstown\, PA\, 17073
END:VEVENT
BEGIN:VEVENT
DTSTART;TZID=UTC:20250726T180000
DTEND;TZID=UTC:20250726T220000
DTSTAMP:20260422T220251
CREATED:20241021T165928Z
LAST-MODIFIED:20241021T165928Z
UID:2167-1753552800-1753567200@www.thesaddletones.com
SUMMARY:Shoppes at Belmont Summer Music Series
DESCRIPTION:The SaddleTones perform for the first time at The Shoppes at Belmont Summer Music Series. The stage is located at Charles Frey Park (between Finch Jewelers & Carter’s). Bring a chair\, hang out or simply dance the night away!!
URL:https://www.thesaddletones.com/event/shoppes-at-belmont-summer-music-series/
LOCATION:The Shoppes at Belmont\, 1600 Fruitville Pike\, Lancaster\, PA\, 17601
END:VEVENT
BEGIN:VEVENT
DTSTART;TZID=UTC:20250711T190000
DTEND;TZID=UTC:20250711T210000
DTSTAMP:20260422T220251
CREATED:20250319T123136Z
LAST-MODIFIED:20250319T123629Z
UID:2233-1752260400-1752267600@www.thesaddletones.com
SUMMARY:Friday Nights Live Open-Air Concert Series
DESCRIPTION:The SaddleTones make a much anticipated return to New Jersey performing at the Clinton Elks Friday Nights live Open-Air Concert Series. Looking forward to seeing all our NJ friends\, family and fans!!
URL:https://www.thesaddletones.com/event/friday-nights-live-open-air-concert-series/
LOCATION:Clinton Elks\, 211 Sidney Rd. Route 617\, Pittstown\, NJ\, 08867
END:VEVENT
BEGIN:VEVENT
DTSTART;TZID=UTC:20250622T180000
DTEND;TZID=UTC:20250622T200000
DTSTAMP:20260422T220251
CREATED:20241029T115624Z
LAST-MODIFIED:20241029T115624Z
UID:2191-1750615200-1750622400@www.thesaddletones.com
SUMMARY:Fleetwood Park Sundays in the Park Concert Series
DESCRIPTION:Come enjoy a free evening of original music at the beautiful Fleetwood Community Park. There is plenty of bench seating or bring a blanket or a chair and relax on the lawn. \nRain date is Monday June 23rd.
URL:https://www.thesaddletones.com/event/fleetwood-park-sundays-in-the-park-concert-series/
LOCATION:Fleetwood Community Park\, 301 W. Main St.\, Fleetwood\, PA\, 19522\, United States
END:VEVENT
BEGIN:VEVENT
DTSTART;TZID=UTC:20250620T190000
DTEND;TZID=UTC:20250621T220000
DTSTAMP:20260422T220251
CREATED:20241021T164742Z
LAST-MODIFIED:20241030T202701Z
UID:2165-1750446000-1750543200@www.thesaddletones.com
SUMMARY:Funck's
DESCRIPTION:Come enjoy a summer solstice swing-out with The SaddleTones on the deck at Funck’s Restaurant.
URL:https://www.thesaddletones.com/event/funcks-2/
LOCATION:Funck’s Restaurant\, 365 W. Main St.\, Leola\, PA\, 17540
END:VEVENT
BEGIN:VEVENT
DTSTART;TZID=UTC:20250611T193000
DTEND;TZID=UTC:20250611T203000
DTSTAMP:20260422T220251
CREATED:20250115T201301Z
LAST-MODIFIED:20250115T201301Z
UID:2208-1749670200-1749673800@www.thesaddletones.com
SUMMARY:Willow Valley Communities
DESCRIPTION:This is a private event for the residents of Willow Valley Communities.
URL:https://www.thesaddletones.com/event/willow-valley-communities/
LOCATION:Willow Valley Communities\, 450 Willow Valley Lakes Dr.\, Willow Street\, PA\, 17584
END:VEVENT
BEGIN:VEVENT
DTSTART;TZID=UTC:20250525T140000
DTEND;TZID=UTC:20250525T170000
DTSTAMP:20260422T220251
CREATED:20241022T121720Z
LAST-MODIFIED:20250209T183318Z
UID:2175-1748181600-1748192400@www.thesaddletones.com
SUMMARY:The Evergreen German Club
DESCRIPTION:Come celebrate the kick-off to summer with some Rock-Boppin-Country at The Evergreen German Club. \nThe Evergreen has a huge fully covered stage and dance floor so put on those dancing shoes and spend the start of summer with us. \n  \n  \n 
URL:https://www.thesaddletones.com/event/the-evergreen-german-club/
LOCATION:Evergreen German Club\, 415 Hartz Rd\, Fleetwood\, PA\, 19522-9315
END:VEVENT
BEGIN:VEVENT
DTSTART;TZID=UTC:20250423T190000
DTEND;TZID=UTC:20250423T210000
DTSTAMP:20260422T220251
CREATED:20250322T122632Z
LAST-MODIFIED:20250322T122632Z
UID:2241-1745434800-1745442000@www.thesaddletones.com
SUMMARY:Godfrey Daniels
DESCRIPTION:Miss Laurie Ann will be making a rare solo appearance as part of the Dave’s Night Out series at Godfrey Daniels. \nMusic\, stories\, and conversation come together in Dave’s Night Out\, a unique monthly series hosted by Dave Fry at Godfrey Daniels. This edition features the insightful songwriting of Pete Gustavson and Laurie Ann Hullinger\, who will share their thoughts on “Why Write Songs?” 
URL:https://www.thesaddletones.com/event/godfrey-daniels/
LOCATION:Godfrey Daniels\, 7 E. 4th St.\, Bethlehem\, PA\, 18015
END:VEVENT
BEGIN:VEVENT
DTSTART;TZID=UTC:20250315T190000
DTEND;TZID=UTC:20250315T230000
DTSTAMP:20260422T220251
CREATED:20241204T153658Z
LAST-MODIFIED:20241204T153658Z
UID:2199-1742065200-1742079600@www.thesaddletones.com
SUMMARY:Reading Motorcycle Club
DESCRIPTION:This is a private show for members of Reading Motorcycle Club.
URL:https://www.thesaddletones.com/event/reading-motorcycle-club/
LOCATION:Reading Motorcycle Club\, 208 Jefferson St\, Oley\, PA\, 19547\, United States
END:VEVENT
BEGIN:VEVENT
DTSTART;TZID=UTC:20241214T200000
DTEND;TZID=UTC:20241214T230000
DTSTAMP:20260422T220251
CREATED:20240826T142803Z
LAST-MODIFIED:20240927T134414Z
UID:2129-1734206400-1734217200@www.thesaddletones.com
SUMMARY:Pike Township Sportsman Assoc.
DESCRIPTION:Miss Laurie Ann & The SaddleTones will make their first appearance at the Pike Township Sportmans Assoc. Come join us for some rock-boppin-country in the beautiful Oley Valley.
URL:https://www.thesaddletones.com/event/pike-township-sportsman-assoc/
LOCATION:Pike Township Sportsman Assoc.\, 860 Hill Church Road\, Oley\, PA\, 19547
END:VEVENT
BEGIN:VEVENT
DTSTART;TZID=UTC:20240927T180000
DTEND;TZID=UTC:20240927T180000
DTSTAMP:20260422T220251
CREATED:20240626T234350Z
LAST-MODIFIED:20240701T143000Z
UID:2080-1727460000-1727460000@www.thesaddletones.com
SUMMARY:Lancaster Roots & Blues Music FestivalLancaster\, PA
DESCRIPTION:Miss Laurie Ann & The SaddleTones will make their first appearance at the legendary Lancaster Roots & Blues Festival. Show is at The Holiday Inn\, Lancaster starting at 6:00PM!!
URL:https://www.thesaddletones.com/event/lancaster-roots-blues-music-festivallancaster-pa/
LOCATION:Lancaster Roots & Blues Music Festival\, 112 N. Water St.\, Lancaster\, PA\, 17603
END:VEVENT
BEGIN:VEVENT
DTSTART;TZID=UTC:20240915T140000
DTEND;TZID=UTC:20240915T160000
DTSTAMP:20260422T220251
CREATED:20240826T160812Z
LAST-MODIFIED:20240826T160921Z
UID:2134-1726408800-1726416000@www.thesaddletones.com
SUMMARY:Farm Fest
DESCRIPTION:The SaddleTones Trio will be performing as part of Farm Fest at The Berks County Heritage Center. Come join us as we help celebrate the rich heritage of farm life in beautiful Berks County Pennsylvania.
URL:https://www.thesaddletones.com/event/farm-fest/
LOCATION:Berks County Heritage Center\, 1102 Red Bridge Road\, Reading\, PA\, 19605
END:VEVENT
BEGIN:VEVENT
DTSTART;TZID=UTC:20240901T140000
DTEND;TZID=UTC:20240901T170000
DTSTAMP:20260422T220251
CREATED:20240626T225218Z
LAST-MODIFIED:20240826T161110Z
UID:2075-1725199200-1725210000@www.thesaddletones.com
SUMMARY:Evergreen German Club
DESCRIPTION:Miss Laurie Ann & The SaddleTones perform from 2:00 to 5:00 at the Evergreen German Club. Prost!!
URL:https://www.thesaddletones.com/event/evergreen-country-club/
LOCATION:Evergreen German Club\, 415 Hartz Rd\, Fleetwood\, PA\, 19522-9315
END:VEVENT
BEGIN:VEVENT
DTSTART;TZID=UTC:20240816T180000
DTEND;TZID=UTC:20240816T180000
DTSTAMP:20260422T220251
CREATED:20240617T153328Z
LAST-MODIFIED:20240801T210650Z
UID:1874-1723831200-1723831200@www.thesaddletones.com
SUMMARY:Starving Artist Cafe
DESCRIPTION:The SaddleTones Duo featuring Miss Laurie Ann & Quentin Jones will perform!!
URL:https://www.thesaddletones.com/event/starving-artist-cafe/
LOCATION:Starving Artist Cafe\, 18 Bridge Street\, Stockton\, New Jersey\, 08559
END:VEVENT
BEGIN:VEVENT
DTSTART;TZID=UTC:20240720T180000
DTEND;TZID=UTC:20240720T180000
DTSTAMP:20260422T220251
CREATED:20240617T205732Z
LAST-MODIFIED:20240701T142701Z
UID:1913-1721498400-1721498400@www.thesaddletones.com
SUMMARY:Mount Hope Estate & Winery\, Home of the Pennsylvania Renaissance Faire
DESCRIPTION:Miss Laurie Ann & The SaddleTones open the show for The Johnny Folsom 4\, a national touring Johnny Cash tribute act. Not to be missed!!
URL:https://www.thesaddletones.com/event/mount-hope-estate-winery-home-of-the-pennsylvania-renaissance-faire/
LOCATION:Mount Hope Estate & Winery\, 2775 Lebanon Rd\, Manheim\, PA\, 17545
END:VEVENT
END:VCALENDAR